BEGIN:VCALENDAR
VERSION:2.0
PRODID:-//https://www.inscriptions.webservices.re///NONSGML kigkonsult.se iCalcreator 2.10.15//
METHOD:PUBLISH
BEGIN:VEVENT
UID:20260419T152901CEST-3221dfUXaV@https://www.inscriptions.webservices.re/
DTSTAMP:20260419T132901Z
DESCRIPTION:TARIF: 10€ HT (à partir)\nTRAIL Ti Moune 2026\n&nbsp\;\ninforma
 tions à venir ... https://www.inscriptions.webservices.re/index.php/events
 /evenement/857-trail-ti-moune
DTSTART;VALUE=DATE:20260726
LOCATION:Saint-Denis (Saint-Denis)
SUMMARY:Trail Ti Moune
URL:https://www.inscriptions.webservices.re/index.php/events/evenement/857-
 trail-ti-moune
END:VEVENT
END:VCALENDAR
