BEGIN:VCALENDAR
VERSION:2.0
PRODID:-//https://www.inscriptions.webservices.re///NONSGML kigkonsult.se iCalcreator 2.10.15//
METHOD:PUBLISH
BEGIN:VEVENT
UID:20260419T155355CEST-2772Pe0jmG@https://www.inscriptions.webservices.re/
DTSTAMP:20260419T135355Z
DESCRIPTION:TARIF: 30€ HT\n🏔️ Trail de la Roche Écrite 2026\nLe **Trail de 
 la Roche Écrite** est une épreuve de course à pied en milieu naturel\, org
 anisée par **Margot Run**\, qui se déroulera le **dimanche 7 juin 2026** s
 ur la commune de **Saint-Denis**.\nCette course emblématique propose un pa
 rcours exigeant et authentique\, reliant les sites remarquables de **Châte
 au Morange**\, **Le Brûlé**\, **Mamode Camp** jusqu’au **sommet de la Roch
 e Écrite**\, offrant aux coureurs une immersion totale au cœur des hauts d
 e l’île.\n🏃‍♂️ Format de l’épreuve- Épreuve **individuelle**- Discipline :
  **Trail / Course à pied**- Nombre de participants limité à **150 concurre
 nts**- Course ouverte aux : - Licenciés **Fédération Française d’Athlétism
 e** - Non-licenciés (selon réglementation en vigueur)- Catégories admises 
 : **Juniors\, Séniors et Masters**\, hommes et femmes  *(À partir de 18 an
 s)*\n📍 Retrait des dossardsLe retrait des dossards se fera exclusivement :
 - **Lieu** : OMS de Saint-Denis (Champ-Fleuri)  42 Route Philibert Tsirana
 na – 97400 Saint-Denis - **Date** : Samedi **6 juin 2026** - **Horaires** 
 : de **9h00 à 16h00**\n🗓️ Inscriptions- **Date limite d’inscription** : **
 mercredi 3 juin 2026 à 00h00**\nLe **Trail de la Roche Écrite** s’adresse 
 aux passionnés de trail en quête de dépassement de soi\, de paysages excep
 tionnels et d’un parcours à fort caractère sportif.\n\n&nbsp\;REGLEMENT:\n
 \n&nbsp\; https://www.inscriptions.webservices.re/index.php/events/eveneme
 nt/840-trail-de-la-roche-ecrite-margot-run
DTSTART;VALUE=DATE:20260607
LOCATION:Roche Ecrite (Roche Écrite\, La Possession 97419\, La Réunion)
SUMMARY:Trail de la Roche Ecrite - Margot Run
URL:https://www.inscriptions.webservices.re/index.php/events/evenement/840-
 trail-de-la-roche-ecrite-margot-run
END:VEVENT
END:VCALENDAR
